BEGIN:VCALENDAR
VERSION:2.0
PRODID:-//www.snipesfarm.org//NONSGML kigkonsult.se iCalcreator 2.30.10//
CALSCALE:GREGORIAN
METHOD:PUBLISH
UID:060890d8-1197-49ac-b999-62e24bee5bb2
X-WR-CALDESC:
X-WR-RELCALID:948e831aa1089e4d3b3b8ff24e595d1c
X-WR-TIMEZONE:America/New_York
BEGIN:VTIMEZONE
TZID:America/New_York
BEGIN:STANDARD
TZNAME:EST
DTSTART:20211107T020000
TZOFFSETFROM:-0400
TZOFFSETTO:-0500
RDATE:20221106T020000
RDATE:20231105T020000
END:STANDARD
BEGIN:DAYLIGHT
TZNAME:EDT
DTSTART:20220313T020000
TZOFFSETFROM:-0500
TZOFFSETTO:-0400
RDATE:20230312T020000
END:DAYLIGHT
END:VTIMEZONE
BEGIN:VEVENT
UID:38755ad9-f58c-41a2-8261-8c666e072c2b
DTSTAMP:20260424T100211Z
DESCRIPTION:
DTSTART;TZID=America/New_York:20220806T093000
DTEND;TZID=America/New_York:20220806T123000
LOCATION:
SUMMARY:Farm Market
END:VEVENT
END:VCALENDAR
